BEGIN:VCALENDAR
VERSION:2.0
PRODID:SchoolNow
CALSCALE:GREGORIAN
BEGIN:VEVENT
UID:764054ca-513c-11f0-949f-0a58a9feac02
DTSTAMP:20250624T204737Z
SUMMARY:100% Tuition & Fees Adjustment Period - Mini-Session B
URL;VALUE=URI:https://www.nunez.edu/calendar/8349382/100-tuition-fees-adjus
 tment-period-mini-session-b
DTSTART;VALUE=DATE:20260320
DTEND;VALUE=DATE:20260321
END:VEVENT
END:VCALENDAR
