BEGIN:VCALENDAR
VERSION:2.0
PRODID:SchoolNow
CALSCALE:GREGORIAN
BEGIN:VEVENT
UID:8cbe65a2-513c-11f0-9562-0a58a9feac02
DTSTAMP:20250624T204814Z
SUMMARY:Show/No Show reporting deadline - Mini-Session B
URL;VALUE=URI:https://www.nunez.edu/calendar/8349383/show-no-show-reporting
 -deadline-mini-session-b
DTSTART:20260320T165900Z
DTEND:20260320T170000Z
END:VEVENT
END:VCALENDAR
