BEGIN:VCALENDAR
VERSION:2.0
PRODID:SchoolNow
CALSCALE:GREGORIAN
BEGIN:VEVENT
UID:9d034a22-513c-11f0-b2f6-0affeef6c825
DTSTAMP:20250624T204842Z
SUMMARY:Students dropped for non-payment/non-attendance - Mini-Session B
URL;VALUE=URI:https://www.nunez.edu/calendar/8349384/students-dropped-for-n
 on-payment-non-attendance-mini-session-b
DTSTART:20260320T205900Z
DTEND:20260320T210000Z
END:VEVENT
END:VCALENDAR
