BEGIN:VCALENDAR
VERSION:2.0
PRODID:SchoolNow
CALSCALE:GREGORIAN
BEGIN:VEVENT
UID:aa35e600-513c-11f0-b83d-0a58a9feac02
DTSTAMP:20250624T204904Z
SUMMARY:50% Tuition-Only Adjustment Period - Mini-Session B
URL;VALUE=URI:https://www.nunez.edu/calendar/8349385/50-tuition-only-adjust
 ment-period-mini-session-b
DTSTART;VALUE=DATE:20260321
DTEND;VALUE=DATE:20260325
END:VEVENT
END:VCALENDAR
