BEGIN:VCALENDAR
VERSION:2.0
PRODID:SchoolNow
CALSCALE:GREGORIAN
BEGIN:VEVENT
UID:bb57133c-513c-11f0-9c37-0a58a9feac02
DTSTAMP:20250624T204933Z
SUMMARY:Reinstatement deadline - Mini-Session B
URL;VALUE=URI:https://www.nunez.edu/calendar/8349386/reinstatement-deadline
 -mini-session-b
DTSTART:20260324T165900Z
DTEND:20260324T170000Z
END:VEVENT
END:VCALENDAR
