BEGIN:VCALENDAR
VERSION:2.0
PRODID:SchoolNow
CALSCALE:GREGORIAN
BEGIN:VEVENT
UID:c92efc9a-513c-11f0-917a-0a58a9feac02
DTSTAMP:20250624T204956Z
SUMMARY:Census Day - Mini-Session B
URL;VALUE=URI:https://www.nunez.edu/calendar/8349387/census-day-mini-sessio
 n-b
DTSTART;VALUE=DATE:20260325
DTEND;VALUE=DATE:20260326
END:VEVENT
END:VCALENDAR
