BEGIN:VCALENDAR
VERSION:2.0
PRODID:SchoolNow
CALSCALE:GREGORIAN
BEGIN:VEVENT
UID:d285dc46-513c-11f0-8c20-0a58a9feac02
DTSTAMP:20250624T205012Z
SUMMARY:Last Day to Withdraw from a Mini-Session B Course or the College wi
 th a "W"
URL;VALUE=URI:https://www.nunez.edu/calendar/8349388/last-day-to-withdraw-f
 rom-a-mini-session-b-course-or-the-college-with-a-w
DTSTART;VALUE=DATE:20260424
DTEND;VALUE=DATE:20260425
END:VEVENT
END:VCALENDAR
