BEGIN:VCALENDAR
VERSION:2.0
PRODID:SchoolNow
CALSCALE:GREGORIAN
BEGIN:VEVENT
UID:dfc3de9e-513c-11f0-85d1-0a58a9feac02
DTSTAMP:20250624T213619Z
SUMMARY:Last Day of Class - Mini-Session B
URL;VALUE=URI:https://www.nunez.edu/calendar/8349389/last-day-of-class-mini
 -session-b
DTSTART;VALUE=DATE:20260508
DTEND;VALUE=DATE:20260509
END:VEVENT
END:VCALENDAR
