BEGIN:VCALENDAR
VERSION:2.0
PRODID:SchoolNow
CALSCALE:GREGORIAN
BEGIN:VEVENT
UID:edfe730c-513c-11f0-8324-0a58a9feac02
DTSTAMP:20250624T205151Z
SUMMARY:Final Exams - Mini-Session B
URL;VALUE=URI:https://www.nunez.edu/calendar/8349390/final-exams-mini-sessi
 on-b
DTSTART;VALUE=DATE:20260509
DTEND;VALUE=DATE:20260513
END:VEVENT
END:VCALENDAR
