BEGIN:VCALENDAR
VERSION:2.0
PRODID:SchoolNow
CALSCALE:GREGORIAN
BEGIN:VEVENT
UID:02656d32-513d-11f0-9016-0a58a9feac02
DTSTAMP:20250624T205132Z
SUMMARY:Final Grades and IBC reporting due - Mini-Session B
URL;VALUE=URI:https://www.nunez.edu/calendar/8349391/final-grades-and-ibc-r
 eporting-due-mini-session-b
DTSTART:20260514T165900Z
DTEND:20260514T170000Z
END:VEVENT
END:VCALENDAR
