BEGIN:VCALENDAR
VERSION:2.0
PRODID:SchoolNow
CALSCALE:GREGORIAN
BEGIN:VEVENT
UID:298ee528-513d-11f0-a078-0ef924d70cdd
DTSTAMP:20250624T205238Z
SUMMARY:Early registration payment deadline - in-person payment - Full Summ
 er Semester
URL;VALUE=URI:https://www.nunez.edu/calendar/8349392/early-registration-pay
 ment-deadline-in-person-payment-full-summer-semester
DTSTART:20260518T204400Z
DTEND:20260518T204500Z
END:VEVENT
END:VCALENDAR
