BEGIN:VCALENDAR
VERSION:2.0
PRODID:SchoolNow
CALSCALE:GREGORIAN
BEGIN:VEVENT
UID:4230071a-513d-11f0-addd-0a58a9feac02
DTSTAMP:20250624T213911Z
SUMMARY:Early registration payment deadline - online payment - Full Summer 
 Semester
URL;VALUE=URI:https://www.nunez.edu/calendar/8349393/early-registration-pay
 ment-deadline-online-payment-full-spring-semester
DTSTART:20260519T045900Z
DTEND:20260519T050000Z
END:VEVENT
END:VCALENDAR
