BEGIN:VCALENDAR
VERSION:2.0
PRODID:SchoolNow
CALSCALE:GREGORIAN
BEGIN:VEVENT
UID:55394196-513d-11f0-81bc-029333af7875
DTSTAMP:20250624T205351Z
SUMMARY:First day of class - Full Summer Semester
URL;VALUE=URI:https://www.nunez.edu/calendar/8349394/first-day-of-class-ful
 l-summer-semester
DTSTART;VALUE=DATE:20260601
DTEND;VALUE=DATE:20260602
END:VEVENT
END:VCALENDAR
