BEGIN:VCALENDAR
VERSION:2.0
PRODID:SchoolNow
CALSCALE:GREGORIAN
BEGIN:VEVENT
UID:621ec4bc-513d-11f0-ac43-0a58a9feac02
DTSTAMP:20250624T205412Z
SUMMARY:Late Registration/Last Day to Add\, Drop or Adjust Schedule - Full 
 Summer Semester
URL;VALUE=URI:https://www.nunez.edu/calendar/8349395/late-registration-last
 -day-to-add-drop-or-adjust-schedule-full-summer-semester
DTSTART;VALUE=DATE:20260602
DTEND;VALUE=DATE:20260603
END:VEVENT
END:VCALENDAR
