BEGIN:VCALENDAR
VERSION:2.0
PRODID:SchoolNow
CALSCALE:GREGORIAN
BEGIN:VEVENT
UID:79bc92f2-513d-11f0-a28f-0a58a9feac02
DTSTAMP:20250624T205452Z
SUMMARY:Final Payment Deadline for Full Term - in-person payment Full Summe
 r Semester
URL;VALUE=URI:https://www.nunez.edu/calendar/8349396/final-payment-deadline
 -for-full-term-in-person-payment-full-summer-semester
DTSTART:20260602T204400Z
DTEND:20260602T204500Z
END:VEVENT
END:VCALENDAR
