BEGIN:VCALENDAR
VERSION:2.0
PRODID:SchoolNow
CALSCALE:GREGORIAN
BEGIN:VEVENT
UID:8d5582d8-513d-11f0-8e62-0a58a9feac02
DTSTAMP:20250624T205525Z
SUMMARY:100% Tuition & Fees Adjustment Period - Full Summer Semester
URL;VALUE=URI:https://www.nunez.edu/calendar/8349398/100-tuition-fees-adjus
 tment-period-full-summer-semester
DTSTART;VALUE=DATE:20260603
DTEND;VALUE=DATE:20260604
END:VEVENT
END:VCALENDAR
