BEGIN:VCALENDAR
VERSION:2.0
PRODID:SchoolNow
CALSCALE:GREGORIAN
BEGIN:VEVENT
UID:9fe90672-513d-11f0-b01f-0203e6c8d72f
DTSTAMP:20250624T205556Z
SUMMARY:Show/No Show reporting deadline - Full Summer Semester
URL;VALUE=URI:https://www.nunez.edu/calendar/8349399/show-no-show-reporting
 -deadline-full-summer-semester
DTSTART:20260603T165900Z
DTEND:20260603T170000Z
END:VEVENT
END:VCALENDAR
