BEGIN:VCALENDAR
VERSION:2.0
PRODID:SchoolNow
CALSCALE:GREGORIAN
BEGIN:VEVENT
UID:b94fb49e-513d-11f0-9ba0-0a58a9feac02
DTSTAMP:20250624T205639Z
SUMMARY:Students dropped for non-payment/non-attendance - Full Summer Semes
 ter
URL;VALUE=URI:https://www.nunez.edu/calendar/8349400/students-dropped-for-n
 on-payment-non-attendance-full-summer-semester
DTSTART:20260603T205900Z
DTEND:20260603T210000Z
END:VEVENT
END:VCALENDAR
