BEGIN:VCALENDAR
VERSION:2.0
PRODID:SchoolNow
CALSCALE:GREGORIAN
BEGIN:VEVENT
UID:ca19597e-513d-11f0-bfea-0a58a9feac02
DTSTAMP:20250624T205707Z
SUMMARY:50% Tuition-Only Adjustment Period - Full Summer Semester
URL;VALUE=URI:https://www.nunez.edu/calendar/8349401/50-tuition-only-adjust
 ment-period-full-summer-semester
DTSTART;VALUE=DATE:20260604
DTEND;VALUE=DATE:20260607
END:VEVENT
END:VCALENDAR
