BEGIN:VCALENDAR
VERSION:2.0
PRODID:SchoolNow
CALSCALE:GREGORIAN
BEGIN:VEVENT
UID:da288d58-513d-11f0-8d25-0a58a9feac02
DTSTAMP:20250624T205734Z
SUMMARY:Reinstatement deadline - Full Summer Semester
URL;VALUE=URI:https://www.nunez.edu/calendar/8349402/reinstatement-deadline
 -full-summer-semester
DTSTART:20260608T165900Z
DTEND:20260608T170000Z
END:VEVENT
END:VCALENDAR
