BEGIN:VCALENDAR
VERSION:2.0
PRODID:SchoolNow
CALSCALE:GREGORIAN
BEGIN:VEVENT
UID:e8d81f62-513d-11f0-b99b-0a58a9feac02
DTSTAMP:20250624T205758Z
SUMMARY:Census Day - Full Summer Semester
URL;VALUE=URI:https://www.nunez.edu/calendar/8349403/census-day-full-summer
 -semester
DTSTART;VALUE=DATE:20260609
DTEND;VALUE=DATE:20260610
END:VEVENT
END:VCALENDAR
