BEGIN:VCALENDAR
VERSION:2.0
PRODID:SchoolNow
CALSCALE:GREGORIAN
BEGIN:VEVENT
UID:f57c3050-513d-11f0-b748-0a58a9feac02
DTSTAMP:20250624T205820Z
SUMMARY:Last Day to Withdraw from a Full-Term Summer Course or the College 
 with a "W"
URL;VALUE=URI:https://www.nunez.edu/calendar/8349404/last-day-to-withdraw-f
 rom-a-full-term-summer-course-or-the-college-with-a-w
DTSTART;VALUE=DATE:20260711
DTEND;VALUE=DATE:20260712
END:VEVENT
END:VCALENDAR
