BEGIN:VCALENDAR
VERSION:2.0
PRODID:SchoolNow
CALSCALE:GREGORIAN
BEGIN:VEVENT
UID:0628198c-513e-11f0-8afc-0a58a9feac02
DTSTAMP:20250624T205848Z
SUMMARY:Last Day of Class - Full Summer Semester
URL;VALUE=URI:https://www.nunez.edu/calendar/8349405/last-day-of-class-full
 -summer-semester
DTSTART;VALUE=DATE:20260724
DTEND;VALUE=DATE:20260725
END:VEVENT
END:VCALENDAR
