BEGIN:VCALENDAR
VERSION:2.0
PRODID:SchoolNow
CALSCALE:GREGORIAN
BEGIN:VEVENT
UID:1d6c7c96-513e-11f0-ae66-0a58a9feac02
DTSTAMP:20250624T205927Z
SUMMARY:Final Exams - Full Summer Semester
URL;VALUE=URI:https://www.nunez.edu/calendar/8349406/final-exams-full-summe
 r-semester
DTSTART:20260727T205900Z
DTEND:20260729T215900Z
END:VEVENT
END:VCALENDAR
