BEGIN:VCALENDAR
VERSION:2.0
PRODID:SchoolNow
CALSCALE:GREGORIAN
BEGIN:VEVENT
UID:34707f00-513e-11f0-9ef7-0a58a9feac02
DTSTAMP:20250624T210005Z
SUMMARY:Final Grades and IBC reporting due - Full Summer Semester
URL;VALUE=URI:https://www.nunez.edu/calendar/8349407/final-grades-and-ibc-r
 eporting-due-full-summer-semester
DTSTART:20260731T165900Z
DTEND:20260731T170000Z
END:VEVENT
END:VCALENDAR
