BEGIN:VCALENDAR
VERSION:2.0
PRODID:SchoolNow
CALSCALE:GREGORIAN
BEGIN:VEVENT
UID:632e99b2-513e-11f0-b46c-0affd2357b71
DTSTAMP:20250624T210124Z
SUMMARY:Early registration payment deadline - in-person payment - Mini-Sess
 ion A
URL;VALUE=URI:https://www.nunez.edu/calendar/8349408/early-registration-pay
 ment-deadline-in-person-payment-mini-session-a
DTSTART:20260518T204400Z
DTEND:20260518T204500Z
END:VEVENT
END:VCALENDAR
