BEGIN:VCALENDAR
VERSION:2.0
PRODID:SchoolNow
CALSCALE:GREGORIAN
BEGIN:VEVENT
UID:73b69e38-513e-11f0-aecc-0a58a9feac02
DTSTAMP:20250624T210151Z
SUMMARY:Early registration payment deadline - in-person payment - Mini-Sess
 ion A
URL;VALUE=URI:https://www.nunez.edu/calendar/8349409/early-registration-pay
 ment-deadline-in-person-payment-mini-session-a
DTSTART:20260519T045900Z
DTEND:20260519T050000Z
END:VEVENT
END:VCALENDAR
