BEGIN:VCALENDAR
VERSION:2.0
PRODID:SchoolNow
CALSCALE:GREGORIAN
BEGIN:VEVENT
UID:811b5eba-513e-11f0-a3e2-029333af7875
DTSTAMP:20250624T210214Z
SUMMARY:First Day of Class - Mini-Session A
URL;VALUE=URI:https://www.nunez.edu/calendar/8349410/first-day-of-class-min
 i-session-a
DTSTART;VALUE=DATE:20260601
DTEND;VALUE=DATE:20260602
END:VEVENT
END:VCALENDAR
