BEGIN:VCALENDAR
VERSION:2.0
PRODID:SchoolNow
CALSCALE:GREGORIAN
BEGIN:VEVENT
UID:8c8d4ede-513e-11f0-a6ca-0ef924d70cdd
DTSTAMP:20250624T210233Z
SUMMARY:Late Registration/Last Day to Add\, Drop or Adjust Schedule - Mini-
 Session A
URL;VALUE=URI:https://www.nunez.edu/calendar/8349411/late-registration-last
 -day-to-add-drop-or-adjust-schedule-mini-session-a
DTSTART;VALUE=DATE:20260601
DTEND;VALUE=DATE:20260602
END:VEVENT
END:VCALENDAR
