BEGIN:VCALENDAR
VERSION:2.0
PRODID:SchoolNow
CALSCALE:GREGORIAN
BEGIN:VEVENT
UID:a4c49610-513e-11f0-9039-0eb6f8fd2a6d
DTSTAMP:20250624T214330Z
SUMMARY:Final Payment Deadline - in-person payment - Mini-Session A
URL;VALUE=URI:https://www.nunez.edu/calendar/8349412/final-payment-deadline
 -in-person-payment-mini-session-a
DTSTART:20260601T204400Z
DTEND:20260601T204500Z
END:VEVENT
END:VCALENDAR
