BEGIN:VCALENDAR
VERSION:2.0
PRODID:SchoolNow
CALSCALE:GREGORIAN
BEGIN:VEVENT
UID:b0ddf57c-513e-11f0-8ff2-0e10af15bf15
DTSTAMP:20250624T210334Z
SUMMARY:100% Tuition & Fees Adjustment Period - Mini-Session A
URL;VALUE=URI:https://www.nunez.edu/calendar/8349413/100-tuition-fees-adjus
 tment-period-mini-session-a
DTSTART;VALUE=DATE:20260602
DTEND;VALUE=DATE:20260603
END:VEVENT
END:VCALENDAR
