BEGIN:VCALENDAR
VERSION:2.0
PRODID:SchoolNow
CALSCALE:GREGORIAN
BEGIN:VEVENT
UID:c2c7d6d6-513e-11f0-8994-0a58a9feac02
DTSTAMP:20250624T210404Z
SUMMARY:Show/No Show reporting deadline - Mini-Session A
URL;VALUE=URI:https://www.nunez.edu/calendar/8349414/show-no-show-reporting
 -deadline-mini-session-a
DTSTART:20260602T165900Z
DTEND:20260602T170000Z
END:VEVENT
END:VCALENDAR
