BEGIN:VCALENDAR
VERSION:2.0
PRODID:SchoolNow
CALSCALE:GREGORIAN
BEGIN:VEVENT
UID:d3c1b3bc-513e-11f0-a96e-0a58a9feac02
DTSTAMP:20250624T210433Z
SUMMARY:Students dropped for non-payment/non-attendance - Mini-Sesson A
URL;VALUE=URI:https://www.nunez.edu/calendar/8349415/students-dropped-for-n
 on-payment-non-attendance-mini-sesson-a
DTSTART:20260602T205900Z
DTEND:20260602T210000Z
END:VEVENT
END:VCALENDAR
