BEGIN:VCALENDAR
VERSION:2.0
PRODID:SchoolNow
CALSCALE:GREGORIAN
BEGIN:VEVENT
UID:e4d96938-513e-11f0-80b6-0a58a9feac02
DTSTAMP:20250624T210501Z
SUMMARY:Reinstatement deadline - Mini-Session A
URL;VALUE=URI:https://www.nunez.edu/calendar/8349416/reinstatement-deadline
 -mini-session-a
DTSTART:20260603T165900Z
DTEND:20260603T170000Z
END:VEVENT
END:VCALENDAR
