BEGIN:VCALENDAR
VERSION:2.0
PRODID:SchoolNow
CALSCALE:GREGORIAN
BEGIN:VEVENT
UID:fd768390-513e-11f0-b1f3-0e10af15bf15
DTSTAMP:20250624T210543Z
SUMMARY:Census Day - Mini-Session A
URL;VALUE=URI:https://www.nunez.edu/calendar/8349417/census-day-mini-sessio
 n-a
DTSTART;VALUE=DATE:20260604
DTEND;VALUE=DATE:20260605
END:VEVENT
END:VCALENDAR
