BEGIN:VCALENDAR
VERSION:2.0
PRODID:SchoolNow
CALSCALE:GREGORIAN
BEGIN:VEVENT
UID:0916023e-513f-11f0-a0ce-0eb6f8fd2a6d
DTSTAMP:20250624T210602Z
SUMMARY:Last Day to Withdraw from a Mini-Session A Course or the College wi
 th a "W"
URL;VALUE=URI:https://www.nunez.edu/calendar/8349418/last-day-to-withdraw-f
 rom-a-mini-session-a-course-or-the-college-with-a-w
DTSTART;VALUE=DATE:20260620
DTEND;VALUE=DATE:20260621
END:VEVENT
END:VCALENDAR
