BEGIN:VCALENDAR
VERSION:2.0
PRODID:SchoolNow
CALSCALE:GREGORIAN
BEGIN:VEVENT
UID:1406732c-513f-11f0-b786-0a58a9feac02
DTSTAMP:20250624T210620Z
SUMMARY:Last Day of Class - Mini-Session A
URL;VALUE=URI:https://www.nunez.edu/calendar/8349419/last-day-of-class-mini
 -session-a
DTSTART;VALUE=DATE:20260626
DTEND;VALUE=DATE:20260627
END:VEVENT
END:VCALENDAR
