BEGIN:VCALENDAR
VERSION:2.0
PRODID:SchoolNow
CALSCALE:GREGORIAN
BEGIN:VEVENT
UID:201cd9e4-513f-11f0-b39c-0affd2357b71
DTSTAMP:20250624T210641Z
SUMMARY:Final Exams - Mini-Session A
URL;VALUE=URI:https://www.nunez.edu/calendar/8349420/final-exams-mini-sessi
 on-a
DTSTART;VALUE=DATE:20260629
DTEND;VALUE=DATE:20260630
END:VEVENT
END:VCALENDAR
