BEGIN:VCALENDAR
VERSION:2.0
PRODID:SchoolNow
CALSCALE:GREGORIAN
BEGIN:VEVENT
UID:3530ee9c-513f-11f0-9197-0affeef6c825
DTSTAMP:20250624T210716Z
SUMMARY:Final Grades and IBC reporting due - Mini-Session A
URL;VALUE=URI:https://www.nunez.edu/calendar/8349421/final-grades-and-ibc-r
 eporting-due-mini-session-a
DTSTART:20260630T165900Z
DTEND:20260630T170000Z
END:VEVENT
END:VCALENDAR
