BEGIN:VCALENDAR
VERSION:2.0
PRODID:SchoolNow
CALSCALE:GREGORIAN
BEGIN:VEVENT
UID:4cd9be2a-513f-11f0-b629-0affd2357b71
DTSTAMP:20250624T210756Z
SUMMARY:Early registration payment deadline - in-person payment - Mini-Sess
 ion B
URL;VALUE=URI:https://www.nunez.edu/calendar/8349422/early-registration-pay
 ment-deadline-in-person-payment-mini-session-b
DTSTART:20260617T204400Z
DTEND:20260617T204500Z
END:VEVENT
END:VCALENDAR
