BEGIN:VCALENDAR
VERSION:2.0
PRODID:SchoolNow
CALSCALE:GREGORIAN
BEGIN:VEVENT
UID:6a3cc75a-513f-11f0-8cb1-0ef924d70cdd
DTSTAMP:20250624T214640Z
SUMMARY:Early registration payment deadline - online payment - Mini-Session
  B
URL;VALUE=URI:https://www.nunez.edu/calendar/8349423/early-registration-pay
 ment-deadline-online-payment-mini-session-b
DTSTART:20260618T045900Z
DTEND:20260618T050000Z
END:VEVENT
END:VCALENDAR
