BEGIN:VCALENDAR
VERSION:2.0
PRODID:SchoolNow
CALSCALE:GREGORIAN
BEGIN:VEVENT
UID:7908e05c-513f-11f0-af97-0e10af15bf15
DTSTAMP:20250624T210910Z
SUMMARY:First Day of Class - Mini-Session B
URL;VALUE=URI:https://www.nunez.edu/calendar/8349424/first-day-of-class-min
 i-session-b
DTSTART;VALUE=DATE:20260701
DTEND;VALUE=DATE:20260702
END:VEVENT
END:VCALENDAR
