BEGIN:VCALENDAR
VERSION:2.0
PRODID:SchoolNow
CALSCALE:GREGORIAN
BEGIN:VEVENT
UID:8610b86a-513f-11f0-8173-0afff5318a25
DTSTAMP:20250624T210932Z
SUMMARY:Late Registration/Last Day to Add\, Drop or Adjust Schedule - Mini-
 Session B
URL;VALUE=URI:https://www.nunez.edu/calendar/8349425/late-registration-last
 -day-to-add-drop-or-adjust-schedule-mini-session-b
DTSTART;VALUE=DATE:20260701
DTEND;VALUE=DATE:20260702
END:VEVENT
END:VCALENDAR
