BEGIN:VCALENDAR
VERSION:2.0
PRODID:SchoolNow
CALSCALE:GREGORIAN
BEGIN:VEVENT
UID:9c09bc5c-513f-11f0-b849-0a58a9feac02
DTSTAMP:20250624T211009Z
SUMMARY:Final Payment Deadline - in-person payment - Mini-Session B
URL;VALUE=URI:https://www.nunez.edu/calendar/8349426/final-payment-deadline
 -in-person-payment-mini-session-b
DTSTART:20260701T204400Z
DTEND:20260701T204500Z
END:VEVENT
END:VCALENDAR
