BEGIN:VCALENDAR
VERSION:2.0
PRODID:SchoolNow
CALSCALE:GREGORIAN
BEGIN:VEVENT
UID:ad14a430-513f-11f0-9cb0-0ef924d70cdd
DTSTAMP:20250624T211037Z
SUMMARY:Final Payment Deadline - online payment - Mini-Session B
URL;VALUE=URI:https://www.nunez.edu/calendar/8349427/final-payment-deadline
 -online-payment-mini-session-b
DTSTART:20260702T045900Z
DTEND:20260702T055900Z
END:VEVENT
END:VCALENDAR
