BEGIN:VCALENDAR
VERSION:2.0
PRODID:SchoolNow
CALSCALE:GREGORIAN
BEGIN:VEVENT
UID:ba9e50ba-513f-11f0-b118-0eb6f8fd2a6d
DTSTAMP:20250624T211100Z
SUMMARY:100% Tuition & Fees Adjustment Period - Mini-Session B
URL;VALUE=URI:https://www.nunez.edu/calendar/8349428/100-tuition-fees-adjus
 tment-period-mini-session-b
DTSTART;VALUE=DATE:20260702
DTEND;VALUE=DATE:20260703
END:VEVENT
END:VCALENDAR
