BEGIN:VCALENDAR
VERSION:2.0
PRODID:SchoolNow
CALSCALE:GREGORIAN
BEGIN:VEVENT
UID:cf94c03a-513f-11f0-a200-029333af7875
DTSTAMP:20250624T211135Z
SUMMARY:Show/No Show reporting deadline - Mini-Session B
URL;VALUE=URI:https://www.nunez.edu/calendar/8349429/show-no-show-reporting
 -deadline-mini-session-b
DTSTART:20260702T165900Z
DTEND:20260702T170000Z
END:VEVENT
END:VCALENDAR
