BEGIN:VCALENDAR
VERSION:2.0
PRODID:SchoolNow
CALSCALE:GREGORIAN
BEGIN:VEVENT
UID:e18bb97e-513f-11f0-aeea-0eb6f8fd2a6d
DTSTAMP:20250624T211205Z
SUMMARY:Students dropped for non-payment/non-attendance - Mini-Session B
URL;VALUE=URI:https://www.nunez.edu/calendar/8349430/students-dropped-for-n
 on-payment-non-attendance-mini-session-b
DTSTART:20260702T205900Z
DTEND:20260702T210000Z
END:VEVENT
END:VCALENDAR
