BEGIN:VCALENDAR
VERSION:2.0
PRODID:SchoolNow
CALSCALE:GREGORIAN
BEGIN:VEVENT
UID:f60e931c-513f-11f0-9583-0a58a9feac02
DTSTAMP:20250624T211240Z
SUMMARY:Reinstatement deadline - Mini-Session B
URL;VALUE=URI:https://www.nunez.edu/calendar/8349431/reinstatement-deadline
 -mini-session-b
DTSTART:20260706T165900Z
DTEND:20260706T170000Z
END:VEVENT
END:VCALENDAR
