BEGIN:VCALENDAR
VERSION:2.0
PRODID:SchoolNow
CALSCALE:GREGORIAN
BEGIN:VEVENT
UID:006cbe10-5140-11f0-acbb-0a58a9feac02
DTSTAMP:20250624T211257Z
SUMMARY:Census Day - Mini-Session B
URL;VALUE=URI:https://www.nunez.edu/calendar/8349432/census-day-mini-sessio
 n-b
DTSTART;VALUE=DATE:20260707
DTEND;VALUE=DATE:20260708
END:VEVENT
END:VCALENDAR
